BEGIN:VCALENDAR
VERSION:2.0
PRODID:-//FEL - ECPv5.1.6//NONSGML v1.0//EN
CALSCALE:GREGORIAN
METHOD:PUBLISH
X-WR-CALNAME:FEL
X-ORIGINAL-URL:http://etudiantsliberaux.be
X-WR-CALDESC:Évènements pour FEL
BEGIN:VTIMEZONE
TZID:UTC
BEGIN:STANDARD
TZOFFSETFROM:+0000
TZOFFSETTO:+0000
TZNAME:UTC
DTSTART:20240101T000000
END:STANDARD
END:VTIMEZONE
BEGIN:VEVENT
DTSTART;TZID=UTC:20240305T190000
DTEND;TZID=UTC:20240305T210000
DTSTAMP:20260420T170034
CREATED:20240220T111958Z
LAST-MODIFIED:20240227T140223Z
UID:4681-1709665200-1709672400@etudiantsliberaux.be
SUMMARY:CEL ULB - Conférence sur l'enseignement supérieur
DESCRIPTION:Les invités : Diana Nikolic (MR)\, Rodrigue Demeuse (Ecolo) et Delphine Chabbert (PS).
URL:http://etudiantsliberaux.be/event/cel-ulb-conference-sur-lenseignement-superieur/
ATTACH;FMTTYPE=image/png:http://etudiantsliberaux.be/app/uploads/2024/02/CEL-ULB-Conference-enseignement-sup-banniere.png
END:VEVENT
END:VCALENDAR